BEGIN:VCALENDAR
VERSION:2.0
PRODID:-//ExpressionEngine Easy iCalendar plugin//NONSGML v2.0.1//EN
X-WR-TIMEZONE:America/New_York
X-WR-CALNAME:Upcoming Auctions
BEGIN:VEVENT
UID:145593
DTSTAMP:20250825T140000
DTSTART:20250825T140000
DTEND:20250825T150000
SUMMARY:Real Estate Auction - Fixer Upper in Lebanon\, PA
LOCATION:1006 Colebrook Road\, Lebanon\, PA 17042\, US
DESCRIPTION:Fixer upper!! Large brick\, corner property with tons of pote
 ntial.  Starting Bid: ONLY $75\,000!
URL:https://www.beringrealestate.com/auctions/detail/bw145593
SEQUENCE:1
END:VEVENT
END:VCALENDAR