BEGIN:VCALENDAR
VERSION:2.0
PRODID:-//ExpressionEngine Easy iCalendar plugin//NONSGML v2.0.0//EN
X-WR-TIMEZONE:America/New_York
X-WR-CALNAME:Upcoming Auctions
BEGIN:VEVENT
UID:158143
DTSTAMP:20260424T090000
DTSTART:20260424T090000
DTEND:20260501T140000
SUMMARY:Lebanon County Liquor License Auction
LOCATION:{location}
DESCRIPTION:Restaurant Liquor License in Lebanon County Available for Pu
 blic Auction!
URL:https://www.beringrealestate.com/auctions/detail/bw158143
SEQUENCE:1
END:VEVENT
END:VCALENDAR